BEGIN:VCALENDAR
VERSION:2.0
PRODID:icalendar-ruby
CALSCALE:GREGORIAN
METHOD:PUBLISH
BEGIN:VEVENT
DTSTAMP:20260422T141212Z
UID:18-1011250@brookschurch.ca
DTSTART:20261023T200000Z
DTEND:20261023T220000Z
CLASS:PUBLIC
CREATED:20260422T064151
DESCRIPTION:Join in the growing youth and here the words of God\, Play game
 s\, and have a good meal
LAST-MODIFIED:20260422T064151
LOCATION:JBS Center
SUMMARY:Youth Fellowship
URL;VALUE=URI:https://www.brookschurch.ca/events/youth-fellowship/2026-10-2
 3
END:VEVENT
END:VCALENDAR
