BEGIN:VCALENDAR
VERSION:2.0
PRODID:icalendar-ruby
CALSCALE:GREGORIAN
METHOD:PUBLISH
BEGIN:VEVENT
DTSTAMP:20260422T105312Z
UID:18-1010731@brookschurch.ca
DTSTART:20261009T200000Z
DTEND:20261009T220000Z
CLASS:PUBLIC
CREATED:20260422T034715
DESCRIPTION:Join in the growing youth and here the words of God\, Play game
 s\, and have a good meal
LAST-MODIFIED:20260422T034715
LOCATION:JBS Center
SUMMARY:Youth Fellowship
URL;VALUE=URI:https://www.brookschurch.ca/events/youth-fellowship/2026-10-0
 9
END:VEVENT
END:VCALENDAR
