BEGIN:VCALENDAR
VERSION:2.0
PRODID:icalendar-ruby
CALSCALE:GREGORIAN
METHOD:PUBLISH
BEGIN:VEVENT
DTSTAMP:20260422T014947Z
UID:18-1010209@brookschurch.ca
DTSTART:20260904T200000Z
DTEND:20260904T220000Z
CLASS:PUBLIC
CREATED:20260421T164929
DESCRIPTION:Join in the growing youth and here the words of God\, Play game
 s\, and have a good meal
LAST-MODIFIED:20260421T164929
LOCATION:JBS Center
SUMMARY:Youth Fellowship
URL;VALUE=URI:https://www.brookschurch.ca/events/youth-fellowship/2026-09-0
 4
END:VEVENT
END:VCALENDAR
