BEGIN:VCALENDAR
VERSION:2.0
PRODID:icalendar-ruby
CALSCALE:GREGORIAN
METHOD:PUBLISH
BEGIN:VEVENT
DTSTAMP:20260421T160148Z
UID:18-1008653@brookschurch.ca
DTSTART:20260731T200000Z
DTEND:20260731T220000Z
CLASS:PUBLIC
CREATED:20260421T085525
DESCRIPTION:Join in the growing youth and here the words of God\, Play game
 s\, and have a good meal
LAST-MODIFIED:20260421T085525
LOCATION:JBS Center
SUMMARY:Youth Fellowship
URL;VALUE=URI:https://www.brookschurch.ca/events/youth-fellowship/2026-07-3
 1
END:VEVENT
END:VCALENDAR
