BEGIN:VCALENDAR
VERSION:2.0
PRODID:icalendar-ruby
CALSCALE:GREGORIAN
METHOD:PUBLISH
BEGIN:VEVENT
DTSTAMP:20260421T141738Z
UID:18-1008135@brookschurch.ca
DTSTART:20260724T200000Z
DTEND:20260724T220000Z
CLASS:PUBLIC
CREATED:20260421T061822
DESCRIPTION:Join in the growing youth and here the words of God\, Play game
 s\, and have a good meal
LAST-MODIFIED:20260421T061822
LOCATION:JBS Center
SUMMARY:Youth Fellowship
URL;VALUE=URI:https://www.brookschurch.ca/events/youth-fellowship/2026-07-2
 4
END:VEVENT
END:VCALENDAR
